BEGIN:VCALENDAR
VERSION:2.0
PRODID:-//SPACK. - ECPv6.15.20//NONSGML v1.0//EN
CALSCALE:GREGORIAN
METHOD:PUBLISH
X-ORIGINAL-URL:https://spack.com.mx
X-WR-CALDESC:Eventos para SPACK.
REFRESH-INTERVAL;VALUE=DURATION:PT1H
X-Robots-Tag:noindex
X-PUBLISHED-TTL:PT1H
BEGIN:VTIMEZONE
TZID:America/Monterrey
BEGIN:DAYLIGHT
TZOFFSETFROM:-0600
TZOFFSETTO:-0500
TZNAME:CDT
DTSTART:20220403T080000
END:DAYLIGHT
BEGIN:STANDARD
TZOFFSETFROM:-0500
TZOFFSETTO:-0600
TZNAME:CST
DTSTART:20221030T070000
END:STANDARD
END:VTIMEZONE
BEGIN:VEVENT
DTSTART;TZID=America/Monterrey:20230225T113000
DTEND;TZID=America/Monterrey:20230225T130000
DTSTAMP:20260420T112927
CREATED:20230225T070734Z
LAST-MODIFIED:20250114T071659Z
UID:5502-1677324600-1677330000@spack.com.mx
SUMMARY:Familiar | Sábados infantiles
DESCRIPTION:Sábados infantiles. Evento presencial\, Entrada libre.\n¡Ven a escuchar cuentos! Habrá Cuenta cuentos y actividades didácticas \nNarraciones de cuentos para toda la familia así como interpretación en Lengua de señas mexicana.
URL:https://spack.com.mx/event/familiar-sabados-infantiles/
LOCATION:Libreria FCE Fray Servando Teresa de Mier\, Av. San Pedro No. 222 Norte\, col. Miravalle\, Monterrey\, Nuevo León\, 64660\, México
CATEGORIES:Familiar,Libros
ATTACH;FMTTYPE=image/jpeg:https://spack.com.mx/wp-content/uploads/2023/02/Sabados-Infantiles-FCE.jpg
END:VEVENT
BEGIN:VEVENT
DTSTART;TZID=America/Monterrey:20230225T113000
DTEND;TZID=America/Monterrey:20230225T130000
DTSTAMP:20260420T112927
CREATED:20230225T070734Z
LAST-MODIFIED:20250114T071659Z
UID:5502-1677324600-1677330000@spack.com.mx
SUMMARY:Familiar | Sábados infantiles
DESCRIPTION:Sábados infantiles. Evento presencial\, Entrada libre.\n¡Ven a escuchar cuentos! Habrá Cuenta cuentos y actividades didácticas \nNarraciones de cuentos para toda la familia así como interpretación en Lengua de señas mexicana.
URL:https://spack.com.mx/event/familiar-sabados-infantiles/
LOCATION:Libreria FCE Fray Servando Teresa de Mier\, Av. San Pedro No. 222 Norte\, col. Miravalle\, Monterrey\, Nuevo León\, 64660\, México
CATEGORIES:Familiar,Libros
ATTACH;FMTTYPE=image/jpeg:https://spack.com.mx/wp-content/uploads/2023/02/Sabados-Infantiles-FCE.jpg
END:VEVENT
BEGIN:VEVENT
DTSTART;TZID=America/Monterrey:20230225T113000
DTEND;TZID=America/Monterrey:20230225T130000
DTSTAMP:20260420T112927
CREATED:20230225T070734Z
LAST-MODIFIED:20250114T071659Z
UID:5502-1677324600-1677330000@spack.com.mx
SUMMARY:Familiar | Sábados infantiles
DESCRIPTION:Sábados infantiles. Evento presencial\, Entrada libre.\n¡Ven a escuchar cuentos! Habrá Cuenta cuentos y actividades didácticas \nNarraciones de cuentos para toda la familia así como interpretación en Lengua de señas mexicana.
URL:https://spack.com.mx/event/familiar-sabados-infantiles/
LOCATION:Libreria FCE Fray Servando Teresa de Mier\, Av. San Pedro No. 222 Norte\, col. Miravalle\, Monterrey\, Nuevo León\, 64660\, México
CATEGORIES:Familiar,Libros
ATTACH;FMTTYPE=image/jpeg:https://spack.com.mx/wp-content/uploads/2023/02/Sabados-Infantiles-FCE.jpg
END:VEVENT
BEGIN:VEVENT
DTSTART;TZID=America/Monterrey:20230225T113000
DTEND;TZID=America/Monterrey:20230225T130000
DTSTAMP:20260420T112927
CREATED:20230225T070734Z
LAST-MODIFIED:20250114T071659Z
UID:5502-1677324600-1677330000@spack.com.mx
SUMMARY:Familiar | Sábados infantiles
DESCRIPTION:Sábados infantiles. Evento presencial\, Entrada libre.\n¡Ven a escuchar cuentos! Habrá Cuenta cuentos y actividades didácticas \nNarraciones de cuentos para toda la familia así como interpretación en Lengua de señas mexicana.
URL:https://spack.com.mx/event/familiar-sabados-infantiles/
LOCATION:Libreria FCE Fray Servando Teresa de Mier\, Av. San Pedro No. 222 Norte\, col. Miravalle\, Monterrey\, Nuevo León\, 64660\, México
CATEGORIES:Familiar,Libros
ATTACH;FMTTYPE=image/jpeg:https://spack.com.mx/wp-content/uploads/2023/02/Sabados-Infantiles-FCE.jpg
END:VEVENT
BEGIN:VEVENT
DTSTART;TZID=America/Monterrey:20230225T113000
DTEND;TZID=America/Monterrey:20230225T130000
DTSTAMP:20260420T112927
CREATED:20230225T070734Z
LAST-MODIFIED:20250114T071659Z
UID:5502-1677324600-1677330000@spack.com.mx
SUMMARY:Familiar | Sábados infantiles
DESCRIPTION:Sábados infantiles. Evento presencial\, Entrada libre.\n¡Ven a escuchar cuentos! Habrá Cuenta cuentos y actividades didácticas \nNarraciones de cuentos para toda la familia así como interpretación en Lengua de señas mexicana.
URL:https://spack.com.mx/event/familiar-sabados-infantiles/
LOCATION:Libreria FCE Fray Servando Teresa de Mier\, Av. San Pedro No. 222 Norte\, col. Miravalle\, Monterrey\, Nuevo León\, 64660\, México
CATEGORIES:Familiar,Libros
ATTACH;FMTTYPE=image/jpeg:https://spack.com.mx/wp-content/uploads/2023/02/Sabados-Infantiles-FCE.jpg
END:VEVENT
BEGIN:VEVENT
DTSTART;TZID=America/Monterrey:20230225T113000
DTEND;TZID=America/Monterrey:20230225T130000
DTSTAMP:20260420T112927
CREATED:20230225T070734Z
LAST-MODIFIED:20250114T071659Z
UID:5502-1677324600-1677330000@spack.com.mx
SUMMARY:Familiar | Sábados infantiles
DESCRIPTION:Sábados infantiles. Evento presencial\, Entrada libre.\n¡Ven a escuchar cuentos! Habrá Cuenta cuentos y actividades didácticas \nNarraciones de cuentos para toda la familia así como interpretación en Lengua de señas mexicana.
URL:https://spack.com.mx/event/familiar-sabados-infantiles/
LOCATION:Libreria FCE Fray Servando Teresa de Mier\, Av. San Pedro No. 222 Norte\, col. Miravalle\, Monterrey\, Nuevo León\, 64660\, México
CATEGORIES:Familiar,Libros
ATTACH;FMTTYPE=image/jpeg:https://spack.com.mx/wp-content/uploads/2023/02/Sabados-Infantiles-FCE.jpg
END:VEVENT
BEGIN:VEVENT
DTSTART;TZID=America/Monterrey:20230225T113000
DTEND;TZID=America/Monterrey:20230225T130000
DTSTAMP:20260420T112927
CREATED:20230225T070734Z
LAST-MODIFIED:20250114T071659Z
UID:5502-1677324600-1677330000@spack.com.mx
SUMMARY:Familiar | Sábados infantiles
DESCRIPTION:Sábados infantiles. Evento presencial\, Entrada libre.\n¡Ven a escuchar cuentos! Habrá Cuenta cuentos y actividades didácticas \nNarraciones de cuentos para toda la familia así como interpretación en Lengua de señas mexicana.
URL:https://spack.com.mx/event/familiar-sabados-infantiles/
LOCATION:Libreria FCE Fray Servando Teresa de Mier\, Av. San Pedro No. 222 Norte\, col. Miravalle\, Monterrey\, Nuevo León\, 64660\, México
CATEGORIES:Familiar,Libros
ATTACH;FMTTYPE=image/jpeg:https://spack.com.mx/wp-content/uploads/2023/02/Sabados-Infantiles-FCE.jpg
END:VEVENT
BEGIN:VEVENT
DTSTART;TZID=America/Monterrey:20230225T113000
DTEND;TZID=America/Monterrey:20230225T130000
DTSTAMP:20260420T112927
CREATED:20230225T070734Z
LAST-MODIFIED:20250114T071659Z
UID:5502-1677324600-1677330000@spack.com.mx
SUMMARY:Familiar | Sábados infantiles
DESCRIPTION:Sábados infantiles. Evento presencial\, Entrada libre.\n¡Ven a escuchar cuentos! Habrá Cuenta cuentos y actividades didácticas \nNarraciones de cuentos para toda la familia así como interpretación en Lengua de señas mexicana.
URL:https://spack.com.mx/event/familiar-sabados-infantiles/
LOCATION:Libreria FCE Fray Servando Teresa de Mier\, Av. San Pedro No. 222 Norte\, col. Miravalle\, Monterrey\, Nuevo León\, 64660\, México
CATEGORIES:Familiar,Libros
ATTACH;FMTTYPE=image/jpeg:https://spack.com.mx/wp-content/uploads/2023/02/Sabados-Infantiles-FCE.jpg
END:VEVENT
BEGIN:VEVENT
DTSTART;TZID=America/Monterrey:20230225T113000
DTEND;TZID=America/Monterrey:20230225T130000
DTSTAMP:20260420T112927
CREATED:20230225T070734Z
LAST-MODIFIED:20250114T071659Z
UID:5502-1677324600-1677330000@spack.com.mx
SUMMARY:Familiar | Sábados infantiles
DESCRIPTION:Sábados infantiles. Evento presencial\, Entrada libre.\n¡Ven a escuchar cuentos! Habrá Cuenta cuentos y actividades didácticas \nNarraciones de cuentos para toda la familia así como interpretación en Lengua de señas mexicana.
URL:https://spack.com.mx/event/familiar-sabados-infantiles/
LOCATION:Libreria FCE Fray Servando Teresa de Mier\, Av. San Pedro No. 222 Norte\, col. Miravalle\, Monterrey\, Nuevo León\, 64660\, México
CATEGORIES:Familiar,Libros
ATTACH;FMTTYPE=image/jpeg:https://spack.com.mx/wp-content/uploads/2023/02/Sabados-Infantiles-FCE.jpg
END:VEVENT
BEGIN:VEVENT
DTSTART;TZID=America/Monterrey:20230225T113000
DTEND;TZID=America/Monterrey:20230225T130000
DTSTAMP:20260420T112927
CREATED:20230225T070734Z
LAST-MODIFIED:20250114T071659Z
UID:5502-1677324600-1677330000@spack.com.mx
SUMMARY:Familiar | Sábados infantiles
DESCRIPTION:Sábados infantiles. Evento presencial\, Entrada libre.\n¡Ven a escuchar cuentos! Habrá Cuenta cuentos y actividades didácticas \nNarraciones de cuentos para toda la familia así como interpretación en Lengua de señas mexicana.
URL:https://spack.com.mx/event/familiar-sabados-infantiles/
LOCATION:Libreria FCE Fray Servando Teresa de Mier\, Av. San Pedro No. 222 Norte\, col. Miravalle\, Monterrey\, Nuevo León\, 64660\, México
CATEGORIES:Familiar,Libros
ATTACH;FMTTYPE=image/jpeg:https://spack.com.mx/wp-content/uploads/2023/02/Sabados-Infantiles-FCE.jpg
END:VEVENT
BEGIN:VEVENT
DTSTART;TZID=America/Monterrey:20230225T113000
DTEND;TZID=America/Monterrey:20230225T130000
DTSTAMP:20260420T112927
CREATED:20230225T070734Z
LAST-MODIFIED:20250114T071659Z
UID:5502-1677324600-1677330000@spack.com.mx
SUMMARY:Familiar | Sábados infantiles
DESCRIPTION:Sábados infantiles. Evento presencial\, Entrada libre.\n¡Ven a escuchar cuentos! Habrá Cuenta cuentos y actividades didácticas \nNarraciones de cuentos para toda la familia así como interpretación en Lengua de señas mexicana.
URL:https://spack.com.mx/event/familiar-sabados-infantiles/
LOCATION:Libreria FCE Fray Servando Teresa de Mier\, Av. San Pedro No. 222 Norte\, col. Miravalle\, Monterrey\, Nuevo León\, 64660\, México
CATEGORIES:Familiar,Libros
ATTACH;FMTTYPE=image/jpeg:https://spack.com.mx/wp-content/uploads/2023/02/Sabados-Infantiles-FCE.jpg
END:VEVENT
BEGIN:VEVENT
DTSTART;TZID=America/Monterrey:20230225T113000
DTEND;TZID=America/Monterrey:20230225T130000
DTSTAMP:20260420T112927
CREATED:20230225T070734Z
LAST-MODIFIED:20250114T071659Z
UID:5502-1677324600-1677330000@spack.com.mx
SUMMARY:Familiar | Sábados infantiles
DESCRIPTION:Sábados infantiles. Evento presencial\, Entrada libre.\n¡Ven a escuchar cuentos! Habrá Cuenta cuentos y actividades didácticas \nNarraciones de cuentos para toda la familia así como interpretación en Lengua de señas mexicana.
URL:https://spack.com.mx/event/familiar-sabados-infantiles/
LOCATION:Libreria FCE Fray Servando Teresa de Mier\, Av. San Pedro No. 222 Norte\, col. Miravalle\, Monterrey\, Nuevo León\, 64660\, México
CATEGORIES:Familiar,Libros
ATTACH;FMTTYPE=image/jpeg:https://spack.com.mx/wp-content/uploads/2023/02/Sabados-Infantiles-FCE.jpg
END:VEVENT
BEGIN:VEVENT
DTSTART;TZID=America/Monterrey:20230225T113000
DTEND;TZID=America/Monterrey:20230225T130000
DTSTAMP:20260420T112927
CREATED:20230225T070734Z
LAST-MODIFIED:20250114T071659Z
UID:5502-1677324600-1677330000@spack.com.mx
SUMMARY:Familiar | Sábados infantiles
DESCRIPTION:Sábados infantiles. Evento presencial\, Entrada libre.\n¡Ven a escuchar cuentos! Habrá Cuenta cuentos y actividades didácticas \nNarraciones de cuentos para toda la familia así como interpretación en Lengua de señas mexicana.
URL:https://spack.com.mx/event/familiar-sabados-infantiles/
LOCATION:Libreria FCE Fray Servando Teresa de Mier\, Av. San Pedro No. 222 Norte\, col. Miravalle\, Monterrey\, Nuevo León\, 64660\, México
CATEGORIES:Familiar,Libros
ATTACH;FMTTYPE=image/jpeg:https://spack.com.mx/wp-content/uploads/2023/02/Sabados-Infantiles-FCE.jpg
END:VEVENT
BEGIN:VEVENT
DTSTART;TZID=America/Monterrey:20230225T113000
DTEND;TZID=America/Monterrey:20230225T130000
DTSTAMP:20260420T112927
CREATED:20230225T070734Z
LAST-MODIFIED:20250114T071659Z
UID:5502-1677324600-1677330000@spack.com.mx
SUMMARY:Familiar | Sábados infantiles
DESCRIPTION:Sábados infantiles. Evento presencial\, Entrada libre.\n¡Ven a escuchar cuentos! Habrá Cuenta cuentos y actividades didácticas \nNarraciones de cuentos para toda la familia así como interpretación en Lengua de señas mexicana.
URL:https://spack.com.mx/event/familiar-sabados-infantiles/
LOCATION:Libreria FCE Fray Servando Teresa de Mier\, Av. San Pedro No. 222 Norte\, col. Miravalle\, Monterrey\, Nuevo León\, 64660\, México
CATEGORIES:Familiar,Libros
ATTACH;FMTTYPE=image/jpeg:https://spack.com.mx/wp-content/uploads/2023/02/Sabados-Infantiles-FCE.jpg
END:VEVENT
BEGIN:VEVENT
DTSTART;TZID=America/Monterrey:20230225T113000
DTEND;TZID=America/Monterrey:20230225T130000
DTSTAMP:20260420T112927
CREATED:20230225T070734Z
LAST-MODIFIED:20250114T071659Z
UID:5502-1677324600-1677330000@spack.com.mx
SUMMARY:Familiar | Sábados infantiles
DESCRIPTION:Sábados infantiles. Evento presencial\, Entrada libre.\n¡Ven a escuchar cuentos! Habrá Cuenta cuentos y actividades didácticas \nNarraciones de cuentos para toda la familia así como interpretación en Lengua de señas mexicana.
URL:https://spack.com.mx/event/familiar-sabados-infantiles/
LOCATION:Libreria FCE Fray Servando Teresa de Mier\, Av. San Pedro No. 222 Norte\, col. Miravalle\, Monterrey\, Nuevo León\, 64660\, México
CATEGORIES:Familiar,Libros
ATTACH;FMTTYPE=image/jpeg:https://spack.com.mx/wp-content/uploads/2023/02/Sabados-Infantiles-FCE.jpg
END:VEVENT
BEGIN:VEVENT
DTSTART;TZID=America/Monterrey:20230225T113000
DTEND;TZID=America/Monterrey:20230225T130000
DTSTAMP:20260420T112927
CREATED:20230225T070734Z
LAST-MODIFIED:20250114T071659Z
UID:5502-1677324600-1677330000@spack.com.mx
SUMMARY:Familiar | Sábados infantiles
DESCRIPTION:Sábados infantiles. Evento presencial\, Entrada libre.\n¡Ven a escuchar cuentos! Habrá Cuenta cuentos y actividades didácticas \nNarraciones de cuentos para toda la familia así como interpretación en Lengua de señas mexicana.
URL:https://spack.com.mx/event/familiar-sabados-infantiles/
LOCATION:Libreria FCE Fray Servando Teresa de Mier\, Av. San Pedro No. 222 Norte\, col. Miravalle\, Monterrey\, Nuevo León\, 64660\, México
CATEGORIES:Familiar,Libros
ATTACH;FMTTYPE=image/jpeg:https://spack.com.mx/wp-content/uploads/2023/02/Sabados-Infantiles-FCE.jpg
END:VEVENT
BEGIN:VEVENT
DTSTART;TZID=America/Monterrey:20230225T113000
DTEND;TZID=America/Monterrey:20230225T130000
DTSTAMP:20260420T112927
CREATED:20230225T070734Z
LAST-MODIFIED:20250114T071659Z
UID:5502-1677324600-1677330000@spack.com.mx
SUMMARY:Familiar | Sábados infantiles
DESCRIPTION:Sábados infantiles. Evento presencial\, Entrada libre.\n¡Ven a escuchar cuentos! Habrá Cuenta cuentos y actividades didácticas \nNarraciones de cuentos para toda la familia así como interpretación en Lengua de señas mexicana.
URL:https://spack.com.mx/event/familiar-sabados-infantiles/
LOCATION:Libreria FCE Fray Servando Teresa de Mier\, Av. San Pedro No. 222 Norte\, col. Miravalle\, Monterrey\, Nuevo León\, 64660\, México
CATEGORIES:Familiar,Libros
ATTACH;FMTTYPE=image/jpeg:https://spack.com.mx/wp-content/uploads/2023/02/Sabados-Infantiles-FCE.jpg
END:VEVENT
BEGIN:VEVENT
DTSTART;TZID=America/Monterrey:20230225T113000
DTEND;TZID=America/Monterrey:20230225T130000
DTSTAMP:20260420T112927
CREATED:20230225T070734Z
LAST-MODIFIED:20250114T071659Z
UID:5502-1677324600-1677330000@spack.com.mx
SUMMARY:Familiar | Sábados infantiles
DESCRIPTION:Sábados infantiles. Evento presencial\, Entrada libre.\n¡Ven a escuchar cuentos! Habrá Cuenta cuentos y actividades didácticas \nNarraciones de cuentos para toda la familia así como interpretación en Lengua de señas mexicana.
URL:https://spack.com.mx/event/familiar-sabados-infantiles/
LOCATION:Libreria FCE Fray Servando Teresa de Mier\, Av. San Pedro No. 222 Norte\, col. Miravalle\, Monterrey\, Nuevo León\, 64660\, México
CATEGORIES:Familiar,Libros
ATTACH;FMTTYPE=image/jpeg:https://spack.com.mx/wp-content/uploads/2023/02/Sabados-Infantiles-FCE.jpg
END:VEVENT
BEGIN:VEVENT
DTSTART;TZID=America/Monterrey:20230225T113000
DTEND;TZID=America/Monterrey:20230225T130000
DTSTAMP:20260420T112927
CREATED:20230225T070734Z
LAST-MODIFIED:20250114T071659Z
UID:5502-1677324600-1677330000@spack.com.mx
SUMMARY:Familiar | Sábados infantiles
DESCRIPTION:Sábados infantiles. Evento presencial\, Entrada libre.\n¡Ven a escuchar cuentos! Habrá Cuenta cuentos y actividades didácticas \nNarraciones de cuentos para toda la familia así como interpretación en Lengua de señas mexicana.
URL:https://spack.com.mx/event/familiar-sabados-infantiles/
LOCATION:Libreria FCE Fray Servando Teresa de Mier\, Av. San Pedro No. 222 Norte\, col. Miravalle\, Monterrey\, Nuevo León\, 64660\, México
CATEGORIES:Familiar,Libros
ATTACH;FMTTYPE=image/jpeg:https://spack.com.mx/wp-content/uploads/2023/02/Sabados-Infantiles-FCE.jpg
END:VEVENT
BEGIN:VEVENT
DTSTART;TZID=America/Monterrey:20230225T113000
DTEND;TZID=America/Monterrey:20230225T130000
DTSTAMP:20260420T112927
CREATED:20230225T070734Z
LAST-MODIFIED:20250114T071659Z
UID:5502-1677324600-1677330000@spack.com.mx
SUMMARY:Familiar | Sábados infantiles
DESCRIPTION:Sábados infantiles. Evento presencial\, Entrada libre.\n¡Ven a escuchar cuentos! Habrá Cuenta cuentos y actividades didácticas \nNarraciones de cuentos para toda la familia así como interpretación en Lengua de señas mexicana.
URL:https://spack.com.mx/event/familiar-sabados-infantiles/
LOCATION:Libreria FCE Fray Servando Teresa de Mier\, Av. San Pedro No. 222 Norte\, col. Miravalle\, Monterrey\, Nuevo León\, 64660\, México
CATEGORIES:Familiar,Libros
ATTACH;FMTTYPE=image/jpeg:https://spack.com.mx/wp-content/uploads/2023/02/Sabados-Infantiles-FCE.jpg
END:VEVENT
BEGIN:VEVENT
DTSTART;TZID=America/Monterrey:20230225T113000
DTEND;TZID=America/Monterrey:20230225T130000
DTSTAMP:20260420T112927
CREATED:20230225T070734Z
LAST-MODIFIED:20250114T071659Z
UID:5502-1677324600-1677330000@spack.com.mx
SUMMARY:Familiar | Sábados infantiles
DESCRIPTION:Sábados infantiles. Evento presencial\, Entrada libre.\n¡Ven a escuchar cuentos! Habrá Cuenta cuentos y actividades didácticas \nNarraciones de cuentos para toda la familia así como interpretación en Lengua de señas mexicana.
URL:https://spack.com.mx/event/familiar-sabados-infantiles/
LOCATION:Libreria FCE Fray Servando Teresa de Mier\, Av. San Pedro No. 222 Norte\, col. Miravalle\, Monterrey\, Nuevo León\, 64660\, México
CATEGORIES:Familiar,Libros
ATTACH;FMTTYPE=image/jpeg:https://spack.com.mx/wp-content/uploads/2023/02/Sabados-Infantiles-FCE.jpg
END:VEVENT
BEGIN:VEVENT
DTSTART;TZID=America/Monterrey:20230225T113000
DTEND;TZID=America/Monterrey:20230225T130000
DTSTAMP:20260420T112927
CREATED:20230225T070734Z
LAST-MODIFIED:20250114T071659Z
UID:5502-1677324600-1677330000@spack.com.mx
SUMMARY:Familiar | Sábados infantiles
DESCRIPTION:Sábados infantiles. Evento presencial\, Entrada libre.\n¡Ven a escuchar cuentos! Habrá Cuenta cuentos y actividades didácticas \nNarraciones de cuentos para toda la familia así como interpretación en Lengua de señas mexicana.
URL:https://spack.com.mx/event/familiar-sabados-infantiles/
LOCATION:Libreria FCE Fray Servando Teresa de Mier\, Av. San Pedro No. 222 Norte\, col. Miravalle\, Monterrey\, Nuevo León\, 64660\, México
CATEGORIES:Familiar,Libros
ATTACH;FMTTYPE=image/jpeg:https://spack.com.mx/wp-content/uploads/2023/02/Sabados-Infantiles-FCE.jpg
END:VEVENT
BEGIN:VEVENT
DTSTART;TZID=America/Monterrey:20230225T113000
DTEND;TZID=America/Monterrey:20230225T130000
DTSTAMP:20260420T112927
CREATED:20230225T070734Z
LAST-MODIFIED:20250114T071659Z
UID:5502-1677324600-1677330000@spack.com.mx
SUMMARY:Familiar | Sábados infantiles
DESCRIPTION:Sábados infantiles. Evento presencial\, Entrada libre.\n¡Ven a escuchar cuentos! Habrá Cuenta cuentos y actividades didácticas \nNarraciones de cuentos para toda la familia así como interpretación en Lengua de señas mexicana.
URL:https://spack.com.mx/event/familiar-sabados-infantiles/
LOCATION:Libreria FCE Fray Servando Teresa de Mier\, Av. San Pedro No. 222 Norte\, col. Miravalle\, Monterrey\, Nuevo León\, 64660\, México
CATEGORIES:Familiar,Libros
ATTACH;FMTTYPE=image/jpeg:https://spack.com.mx/wp-content/uploads/2023/02/Sabados-Infantiles-FCE.jpg
END:VEVENT
BEGIN:VEVENT
DTSTART;TZID=America/Monterrey:20230225T113000
DTEND;TZID=America/Monterrey:20230225T130000
DTSTAMP:20260420T112927
CREATED:20230225T070734Z
LAST-MODIFIED:20250114T071659Z
UID:5502-1677324600-1677330000@spack.com.mx
SUMMARY:Familiar | Sábados infantiles
DESCRIPTION:Sábados infantiles. Evento presencial\, Entrada libre.\n¡Ven a escuchar cuentos! Habrá Cuenta cuentos y actividades didácticas \nNarraciones de cuentos para toda la familia así como interpretación en Lengua de señas mexicana.
URL:https://spack.com.mx/event/familiar-sabados-infantiles/
LOCATION:Libreria FCE Fray Servando Teresa de Mier\, Av. San Pedro No. 222 Norte\, col. Miravalle\, Monterrey\, Nuevo León\, 64660\, México
CATEGORIES:Familiar,Libros
ATTACH;FMTTYPE=image/jpeg:https://spack.com.mx/wp-content/uploads/2023/02/Sabados-Infantiles-FCE.jpg
END:VEVENT
BEGIN:VEVENT
DTSTART;TZID=America/Monterrey:20230225T113000
DTEND;TZID=America/Monterrey:20230225T130000
DTSTAMP:20260420T112927
CREATED:20230225T070734Z
LAST-MODIFIED:20250114T071659Z
UID:5502-1677324600-1677330000@spack.com.mx
SUMMARY:Familiar | Sábados infantiles
DESCRIPTION:Sábados infantiles. Evento presencial\, Entrada libre.\n¡Ven a escuchar cuentos! Habrá Cuenta cuentos y actividades didácticas \nNarraciones de cuentos para toda la familia así como interpretación en Lengua de señas mexicana.
URL:https://spack.com.mx/event/familiar-sabados-infantiles/
LOCATION:Libreria FCE Fray Servando Teresa de Mier\, Av. San Pedro No. 222 Norte\, col. Miravalle\, Monterrey\, Nuevo León\, 64660\, México
CATEGORIES:Familiar,Libros
ATTACH;FMTTYPE=image/jpeg:https://spack.com.mx/wp-content/uploads/2023/02/Sabados-Infantiles-FCE.jpg
END:VEVENT
BEGIN:VEVENT
DTSTART;TZID=America/Monterrey:20230225T113000
DTEND;TZID=America/Monterrey:20230225T130000
DTSTAMP:20260420T112927
CREATED:20230225T070734Z
LAST-MODIFIED:20250114T071659Z
UID:5502-1677324600-1677330000@spack.com.mx
SUMMARY:Familiar | Sábados infantiles
DESCRIPTION:Sábados infantiles. Evento presencial\, Entrada libre.\n¡Ven a escuchar cuentos! Habrá Cuenta cuentos y actividades didácticas \nNarraciones de cuentos para toda la familia así como interpretación en Lengua de señas mexicana.
URL:https://spack.com.mx/event/familiar-sabados-infantiles/
LOCATION:Libreria FCE Fray Servando Teresa de Mier\, Av. San Pedro No. 222 Norte\, col. Miravalle\, Monterrey\, Nuevo León\, 64660\, México
CATEGORIES:Familiar,Libros
ATTACH;FMTTYPE=image/jpeg:https://spack.com.mx/wp-content/uploads/2023/02/Sabados-Infantiles-FCE.jpg
END:VEVENT
BEGIN:VEVENT
DTSTART;TZID=America/Monterrey:20241214T100000
DTEND;TZID=America/Monterrey:20241214T180000
DTSTAMP:20260420T112927
CREATED:20241214T210214Z
LAST-MODIFIED:20241214T210214Z
UID:6002-1734170400-1734199200@spack.com.mx
SUMMARY:Exposición | Cronos desencadenado
DESCRIPTION:“Cronos desencadenado”\, reúne obras de grandes maestros\, que forman o han formado parte del Acervo de la Pinacoteca de Nuevo León y otras obras de artistas contemporáneos de la entidad\, para en conjunto\, crear una narrativa donde la mitología personal de cada uno de los autores\, se expresa unida a la contemplación del tiempo\, haciéndonos emprender un viaje de apreciaciones estéticas que ponen en juego los cánones establecidos y abren la posibilidad de ampliar los límites del arte para los espectadores. Estará conformada por más de 30 obras tanto del acervo y de artistas emergentes.
URL:https://spack.com.mx/event/exposicion-cronos-desencadenado/
LOCATION:Pinacoteca\, Centro Cultural Universitario Colegio Civil | Juárez y Washington s/n\, Centro\, Monterrey\, Nuevo León\, México
CATEGORIES:Exposición
ATTACH;FMTTYPE=image/jpeg:https://spack.com.mx/wp-content/uploads/2024/12/Cronos-desencadenado.jpg
END:VEVENT
BEGIN:VEVENT
DTSTART;TZID=America/Monterrey:20241214T100000
DTEND;TZID=America/Monterrey:20241214T180000
DTSTAMP:20260420T112927
CREATED:20241214T210214Z
LAST-MODIFIED:20241214T210214Z
UID:6002-1734170400-1734199200@spack.com.mx
SUMMARY:Exposición | Cronos desencadenado
DESCRIPTION:“Cronos desencadenado”\, reúne obras de grandes maestros\, que forman o han formado parte del Acervo de la Pinacoteca de Nuevo León y otras obras de artistas contemporáneos de la entidad\, para en conjunto\, crear una narrativa donde la mitología personal de cada uno de los autores\, se expresa unida a la contemplación del tiempo\, haciéndonos emprender un viaje de apreciaciones estéticas que ponen en juego los cánones establecidos y abren la posibilidad de ampliar los límites del arte para los espectadores. Estará conformada por más de 30 obras tanto del acervo y de artistas emergentes.
URL:https://spack.com.mx/event/exposicion-cronos-desencadenado/
LOCATION:Pinacoteca\, Centro Cultural Universitario Colegio Civil | Juárez y Washington s/n\, Centro\, Monterrey\, Nuevo León\, México
CATEGORIES:Exposición
ATTACH;FMTTYPE=image/jpeg:https://spack.com.mx/wp-content/uploads/2024/12/Cronos-desencadenado.jpg
END:VEVENT
BEGIN:VEVENT
DTSTART;TZID=America/Monterrey:20230225T113000
DTEND;TZID=America/Monterrey:20230225T130000
DTSTAMP:20260420T112927
CREATED:20230225T070734Z
LAST-MODIFIED:20250114T071659Z
UID:5502-1677324600-1677330000@spack.com.mx
SUMMARY:Familiar | Sábados infantiles
DESCRIPTION:Sábados infantiles. Evento presencial\, Entrada libre.\n¡Ven a escuchar cuentos! Habrá Cuenta cuentos y actividades didácticas \nNarraciones de cuentos para toda la familia así como interpretación en Lengua de señas mexicana.
URL:https://spack.com.mx/event/familiar-sabados-infantiles/
LOCATION:Libreria FCE Fray Servando Teresa de Mier\, Av. San Pedro No. 222 Norte\, col. Miravalle\, Monterrey\, Nuevo León\, 64660\, México
CATEGORIES:Familiar,Libros
ATTACH;FMTTYPE=image/jpeg:https://spack.com.mx/wp-content/uploads/2023/02/Sabados-Infantiles-FCE.jpg
END:VEVENT
BEGIN:VEVENT
DTSTART;TZID=America/Monterrey:20241214T100000
DTEND;TZID=America/Monterrey:20241214T180000
DTSTAMP:20260420T112927
CREATED:20241214T210214Z
LAST-MODIFIED:20241214T210214Z
UID:6002-1734170400-1734199200@spack.com.mx
SUMMARY:Exposición | Cronos desencadenado
DESCRIPTION:“Cronos desencadenado”\, reúne obras de grandes maestros\, que forman o han formado parte del Acervo de la Pinacoteca de Nuevo León y otras obras de artistas contemporáneos de la entidad\, para en conjunto\, crear una narrativa donde la mitología personal de cada uno de los autores\, se expresa unida a la contemplación del tiempo\, haciéndonos emprender un viaje de apreciaciones estéticas que ponen en juego los cánones establecidos y abren la posibilidad de ampliar los límites del arte para los espectadores. Estará conformada por más de 30 obras tanto del acervo y de artistas emergentes.
URL:https://spack.com.mx/event/exposicion-cronos-desencadenado/
LOCATION:Pinacoteca\, Centro Cultural Universitario Colegio Civil | Juárez y Washington s/n\, Centro\, Monterrey\, Nuevo León\, México
CATEGORIES:Exposición
ATTACH;FMTTYPE=image/jpeg:https://spack.com.mx/wp-content/uploads/2024/12/Cronos-desencadenado.jpg
END:VEVENT
END:VCALENDAR